BEGIN:VCALENDAR
VERSION:2.0
PRODID:icalendar-ruby
CALSCALE:GREGORIAN
METHOD:PUBLISH
BEGIN:VEVENT
DTSTAMP:20260421T123005Z
UID:22-1854375@hornsbybendassemblyofgod.com
DTSTART:20261027T220000Z
DTEND:20261028T000000Z
CLASS:PUBLIC
CREATED:20260421T062720
DESCRIPTION:
LAST-MODIFIED:20260421T062720
LOCATION:13911 FM 969\, Austin\, Texas 78724
SUMMARY:Prayer
URL;VALUE=URI:https://www.hornsbybendassemblyofgod.com/events/prayer/2026-1
 0-27
END:VEVENT
END:VCALENDAR
