BEGIN:VCALENDAR
VERSION:2.0
PRODID:icalendar-ruby
CALSCALE:GREGORIAN
METHOD:PUBLISH
BEGIN:VEVENT
DTSTAMP:20260421T085131Z
UID:22-1852911@hornsbybendassemblyofgod.com
DTSTART:20261013T220000Z
DTEND:20261014T000000Z
CLASS:PUBLIC
CREATED:20260420T192054
DESCRIPTION:
LAST-MODIFIED:20260420T192054
LOCATION:13911 FM 969\, Austin\, Texas 78724
SUMMARY:Prayer
URL;VALUE=URI:https://www.hornsbybendassemblyofgod.com/events/prayer/2026-1
 0-13
END:VEVENT
END:VCALENDAR
